BEGIN:VCALENDAR
VERSION:2.0
PRODID:SchoolNow
CALSCALE:GREGORIAN
BEGIN:VEVENT
UID:bec2f724-8095-11f0-a438-0a58a9feac02
DTSTAMP:20251216T200046Z
SUMMARY:FHS Volleyball Vs Biggersville
URL;VALUE=URI:https://www.northtippah.org/calendar/8537090/fhs-volleyball-v
 s-biggersville
DTSTART:20250915T223000Z
DTEND:20250916T010000Z
END:VEVENT
END:VCALENDAR
