BEGIN:VCALENDAR
VERSION:2.0
PRODID:SchoolNow
CALSCALE:GREGORIAN
BEGIN:VEVENT
UID:bec2f7f6-8095-11f0-b7a7-0a58a9feac02
DTSTAMP:20251216T200046Z
SUMMARY:FHS Volleyball Vs Wheeler
URL;VALUE=URI:https://www.northtippah.org/calendar/8537091/fhs-volleyball-v
 s-wheeler
DTSTART:20250916T223000Z
DTEND:20250917T010000Z
END:VEVENT
END:VCALENDAR
