BEGIN:VCALENDAR
VERSION:2.0
PRODID:SchoolNow
CALSCALE:GREGORIAN
BEGIN:VEVENT
UID:bec2f8c8-8095-11f0-a260-0a58a9feac02
DTSTAMP:20251216T200046Z
SUMMARY:FHS Volleyball @ Walnut TCT
URL;VALUE=URI:https://www.northtippah.org/calendar/8537092/fhs-volleyball-w
 alnut-tct
DTSTART;VALUE=DATE:20250920
DTEND;VALUE=DATE:20250921
END:VEVENT
END:VCALENDAR
