BEGIN:VCALENDAR
VERSION:2.0
PRODID:SchoolNow
CALSCALE:GREGORIAN
BEGIN:VEVENT
UID:bec2f9a4-8095-11f0-9f2c-0a58a9feac02
DTSTAMP:20251216T200046Z
SUMMARY:FHS Volleyball @ Myrtle
URL;VALUE=URI:https://www.northtippah.org/calendar/8537093/fhs-volleyball-m
 yrtle
DTSTART:20250922T223000Z
DTEND:20250923T010000Z
END:VEVENT
END:VCALENDAR
