BEGIN:VCALENDAR
VERSION:2.0
PRODID:SchoolNow
CALSCALE:GREGORIAN
BEGIN:VEVENT
UID:bec2fa76-8095-11f0-9b27-0a58a9feac02
DTSTAMP:20251216T200046Z
SUMMARY:FHS Volleyball @ Wheeler
URL;VALUE=URI:https://www.northtippah.org/calendar/8537094/fhs-volleyball-w
 heeler
DTSTART:20250925T223000Z
DTEND:20250926T010000Z
END:VEVENT
END:VCALENDAR
