BEGIN:VCALENDAR
VERSION:2.0
PRODID:SchoolNow
CALSCALE:GREGORIAN
BEGIN:VEVENT
UID:bec2fb7a-8095-11f0-b5dd-0a58a9feac02
DTSTAMP:20251216T200046Z
SUMMARY:FHS Volleyball @ Hickory Flat
URL;VALUE=URI:https://www.northtippah.org/calendar/8537095/fhs-volleyball-h
 ickory-flat
DTSTART:20250927T190000Z
DTEND:20250927T210000Z
END:VEVENT
END:VCALENDAR
