BEGIN:VCALENDAR
VERSION:2.0
PRODID:SchoolNow
CALSCALE:GREGORIAN
BEGIN:VEVENT
UID:bec2fd50-8095-11f0-9ecd-0a58a9feac02
DTSTAMP:20251216T200046Z
SUMMARY:FHS XC @ Hickory Flat
URL;VALUE=URI:https://www.northtippah.org/calendar/8537097/fhs-xc-hickory-f
 lat
DTSTART:20250906T130000Z
DTEND:20250906T150000Z
END:VEVENT
END:VCALENDAR
