BEGIN:VCALENDAR
VERSION:2.0
PRODID:SchoolNow
CALSCALE:GREGORIAN
BEGIN:VEVENT
UID:bec2fe2c-8095-11f0-9770-0a58a9feac02
DTSTAMP:20251216T200046Z
SUMMARY:FHS XC @ Mooreville
URL;VALUE=URI:https://www.northtippah.org/calendar/8537098/fhs-xc-moorevill
 e
DTSTART:20250913T124500Z
DTEND:20250913T150000Z
END:VEVENT
END:VCALENDAR
