BEGIN:VCALENDAR
VERSION:2.0
PRODID:SchoolNow
CALSCALE:GREGORIAN
BEGIN:VEVENT
UID:bec2fefe-8095-11f0-9045-0a58a9feac02
DTSTAMP:20251216T200046Z
SUMMARY:FHS XC @ BMCU
URL;VALUE=URI:https://www.northtippah.org/calendar/8537099/fhs-xc-bmcu
DTSTART:20250925T210000Z
DTEND:20250926T000000Z
END:VEVENT
END:VCALENDAR
