BEGIN:VCALENDAR
VERSION:2.0
PRODID:SchoolNow
CALSCALE:GREGORIAN
BEGIN:VEVENT
UID:bec2ffd0-8095-11f0-9caa-0a58a9feac02
DTSTAMP:20251216T200046Z
SUMMARY:FHS XC @ Choctaw Trails (State Meet)
URL;VALUE=URI:https://www.northtippah.org/calendar/8537100/fhs-xc-choctaw-t
 rails-state-meet
DTSTART:20251030T170000Z
DTEND:20251030T200000Z
END:VEVENT
END:VCALENDAR
