BEGIN:VCALENDAR
VERSION:2.0
PRODID:SchoolNow
CALSCALE:GREGORIAN
BEGIN:VEVENT
UID:bec300b6-8095-11f0-b4b6-0a58a9feac02
DTSTAMP:20251216T200046Z
SUMMARY:FHS Football Vs Okolona
URL;VALUE=URI:https://www.northtippah.org/calendar/8537101/fhs-football-vs-
 okolona
DTSTART:20250906T000000Z
DTEND:20250906T023000Z
END:VEVENT
END:VCALENDAR
