BEGIN:VCALENDAR
VERSION:2.0
PRODID:SchoolNow
CALSCALE:GREGORIAN
BEGIN:VEVENT
UID:bec30192-8095-11f0-a47b-0a58a9feac02
DTSTAMP:20251216T200046Z
SUMMARY:FHS Football Vs Bruce
URL;VALUE=URI:https://www.northtippah.org/calendar/8537102/fhs-football-vs-
 bruce
DTSTART:20250913T000000Z
DTEND:20250913T023000Z
END:VEVENT
END:VCALENDAR
