BEGIN:VCALENDAR
VERSION:2.0
PRODID:SchoolNow
CALSCALE:GREGORIAN
BEGIN:VEVENT
UID:bec3026e-8095-11f0-9cb4-0a58a9feac02
DTSTAMP:20251216T200046Z
SUMMARY:FHS Homecoming Court
URL;VALUE=URI:https://www.northtippah.org/calendar/8537103/fhs-homecoming-c
 ourt
DTSTART:20250919T230000Z
DTEND:20250920T000000Z
END:VEVENT
END:VCALENDAR
