BEGIN:VCALENDAR
VERSION:2.0
PRODID:SchoolNow
CALSCALE:GREGORIAN
BEGIN:VEVENT
UID:bec30340-8095-11f0-992c-0a58a9feac02
DTSTAMP:20251216T200046Z
SUMMARY:FHS Football @ TCPS
URL;VALUE=URI:https://www.northtippah.org/calendar/8537104/fhs-football-tcp
 s
DTSTART:20250927T000000Z
DTEND:20250927T023000Z
END:VEVENT
END:VCALENDAR
