BEGIN:VCALENDAR
VERSION:2.0
PRODID:SchoolNow
CALSCALE:GREGORIAN
BEGIN:VEVENT
UID:bec30412-8095-11f0-9658-0a58a9feac02
DTSTAMP:20251216T200046Z
SUMMARY:FHS Football Vs Smithville
URL;VALUE=URI:https://www.northtippah.org/calendar/8537105/fhs-football-vs-
 smithville
DTSTART:20251004T000000Z
DTEND:20251004T023000Z
END:VEVENT
END:VCALENDAR
