BEGIN:VCALENDAR
VERSION:2.0
PRODID:SchoolNow
CALSCALE:GREGORIAN
BEGIN:VEVENT
UID:bec304ee-8095-11f0-8b82-0a58a9feac02
DTSTAMP:20251216T200046Z
SUMMARY:FHS Football Vs Ashland (Senior Night)
URL;VALUE=URI:https://www.northtippah.org/calendar/8537106/fhs-football-vs-
 ashland-senior-night
DTSTART:20251018T000000Z
DTEND:20251018T023000Z
END:VEVENT
END:VCALENDAR
