BEGIN:VCALENDAR
VERSION:2.0
PRODID:SchoolNow
CALSCALE:GREGORIAN
BEGIN:VEVENT
UID:bec305c0-8095-11f0-8456-0a58a9feac02
DTSTAMP:20251216T200046Z
SUMMARY:FHS Football @ H.W. Byres
URL;VALUE=URI:https://www.northtippah.org/calendar/8537107/fhs-football-h-w
 -byres
DTSTART:20251024T000000Z
DTEND:20251024T023000Z
END:VEVENT
END:VCALENDAR
