BEGIN:VCALENDAR
VERSION:2.0
PRODID:SchoolNow
CALSCALE:GREGORIAN
BEGIN:VEVENT
UID:bec3069c-8095-11f0-8372-0a58a9feac02
DTSTAMP:20251216T200046Z
SUMMARY:FHS Football @ Potts Camp
URL;VALUE=URI:https://www.northtippah.org/calendar/8537108/fhs-football-pot
 ts-camp
DTSTART:20251031T000000Z
DTEND:20251031T023000Z
END:VEVENT
END:VCALENDAR
