BEGIN:VCALENDAR
VERSION:2.0
PRODID:SchoolNow
CALSCALE:GREGORIAN
BEGIN:VEVENT
UID:bec3076e-8095-11f0-930e-0a58a9feac02
DTSTAMP:20251216T200046Z
SUMMARY:FHS Boys Basketball Vs Tupelo Titans
URL;VALUE=URI:https://www.northtippah.org/calendar/8537109/fhs-boys-basketb
 all-vs-tupelo-titans
DTSTART:20251105T000000Z
DTEND:20251105T020000Z
END:VEVENT
END:VCALENDAR
