BEGIN:VCALENDAR
VERSION:2.0
PRODID:SchoolNow
CALSCALE:GREGORIAN
BEGIN:VEVENT
UID:bec30840-8095-11f0-9f0c-0a58a9feac02
DTSTAMP:20251216T200046Z
SUMMARY:FHS Basketball Vs Baldwyn
URL;VALUE=URI:https://www.northtippah.org/calendar/8537110/fhs-basketball-v
 s-baldwyn
DTSTART:20251112T000000Z
DTEND:20251112T024500Z
END:VEVENT
END:VCALENDAR
