BEGIN:VCALENDAR
VERSION:2.0
PRODID:SchoolNow
CALSCALE:GREGORIAN
BEGIN:VEVENT
UID:bec30912-8095-11f0-9bd5-0a58a9feac02
DTSTAMP:20251216T200046Z
SUMMARY:FHS Basketball Vs Nettelton
URL;VALUE=URI:https://www.northtippah.org/calendar/8537111/fhs-basketball-v
 s-nettelton
DTSTART:20251119T000000Z
DTEND:20251119T023000Z
END:VEVENT
END:VCALENDAR
