BEGIN:VCALENDAR
VERSION:2.0
PRODID:SchoolNow
CALSCALE:GREGORIAN
BEGIN:VEVENT
UID:bec309e4-8095-11f0-8028-0a58a9feac02
DTSTAMP:20251216T200046Z
SUMMARY:FHS Basketball @ Houlka
URL;VALUE=URI:https://www.northtippah.org/calendar/8537112/fhs-basketball-h
 oulka
DTSTART:20251125T000000Z
DTEND:20251125T023000Z
END:VEVENT
END:VCALENDAR
