BEGIN:VCALENDAR
VERSION:2.0
PRODID:SchoolNow
CALSCALE:GREGORIAN
BEGIN:VEVENT
UID:bec30ac0-8095-11f0-a4ba-0a58a9feac02
DTSTAMP:20251216T200046Z
SUMMARY:FHS Basketball Vs Wheeler
URL;VALUE=URI:https://www.northtippah.org/calendar/8537113/fhs-basketball-v
 s-wheeler
DTSTART:20251203T000000Z
DTEND:20251203T023000Z
END:VEVENT
END:VCALENDAR
