BEGIN:VCALENDAR
VERSION:2.0
PRODID:SchoolNow
CALSCALE:GREGORIAN
BEGIN:VEVENT
UID:bec30b9c-8095-11f0-8843-0a58a9feac02
DTSTAMP:20251216T200046Z
SUMMARY:FHS Basketball @ Biggersville
URL;VALUE=URI:https://www.northtippah.org/calendar/8537114/fhs-basketball-b
 iggersville
DTSTART:20251206T000000Z
DTEND:20251206T023000Z
END:VEVENT
END:VCALENDAR
