BEGIN:VCALENDAR
VERSION:2.0
PRODID:SchoolNow
CALSCALE:GREGORIAN
BEGIN:VEVENT
UID:bec30c6e-8095-11f0-8ffc-0a58a9feac02
DTSTAMP:20251216T200046Z
SUMMARY:FHS Basketball @ Pine Grove
URL;VALUE=URI:https://www.northtippah.org/calendar/8537115/fhs-basketball-p
 ine-grove
DTSTART:20251209T234500Z
DTEND:20251210T023000Z
END:VEVENT
END:VCALENDAR
