BEGIN:VCALENDAR
VERSION:2.0
PRODID:SchoolNow
CALSCALE:GREGORIAN
BEGIN:VEVENT
UID:bec30d40-8095-11f0-adfe-0a58a9feac02
DTSTAMP:20251216T200046Z
SUMMARY:FHS Basketball @ Jumpertown
URL;VALUE=URI:https://www.northtippah.org/calendar/8537116/fhs-basketball-j
 umpertown
DTSTART:20251213T000000Z
DTEND:20251213T023000Z
END:VEVENT
END:VCALENDAR
