BEGIN:VCALENDAR
VERSION:2.0
PRODID:SchoolNow
CALSCALE:GREGORIAN
BEGIN:VEVENT
UID:bec30e12-8095-11f0-8b10-0a58a9feac02
DTSTAMP:20251216T200046Z
SUMMARY:FHS Basketball Vs Thrasher
URL;VALUE=URI:https://www.northtippah.org/calendar/8537117/fhs-basketball-v
 s-thrasher
DTSTART:20251217T000000Z
DTEND:20251217T023000Z
END:VEVENT
END:VCALENDAR
