BEGIN:VCALENDAR
VERSION:2.0
PRODID:SchoolNow
CALSCALE:GREGORIAN
BEGIN:VEVENT
UID:bec30ee4-8095-11f0-928f-0a58a9feac02
DTSTAMP:20251216T200046Z
SUMMARY:FHS Basketball @ Wheeler
URL;VALUE=URI:https://www.northtippah.org/calendar/8537118/fhs-basketball-w
 heeler
DTSTART:20251220T000000Z
DTEND:20251220T023000Z
END:VEVENT
END:VCALENDAR
