BEGIN:VCALENDAR
VERSION:2.0
PRODID:SchoolNow
CALSCALE:GREGORIAN
BEGIN:VEVENT
UID:bec30fb6-8095-11f0-9454-0a58a9feac02
DTSTAMP:20251216T200046Z
SUMMARY:FHS Basketball @ Hickory Flat
URL;VALUE=URI:https://www.northtippah.org/calendar/8537119/fhs-basketball-h
 ickory-flat
DTSTART:20260107T000000Z
DTEND:20260107T023000Z
END:VEVENT
END:VCALENDAR
