BEGIN:VCALENDAR
VERSION:2.0
PRODID:SchoolNow
CALSCALE:GREGORIAN
BEGIN:VEVENT
UID:bec3115a-8095-11f0-88c4-0a58a9feac02
DTSTAMP:20251216T200046Z
SUMMARY:FHS Basketball @ Biggersville
URL;VALUE=URI:https://www.northtippah.org/calendar/8537121/fhs-basketball-b
 iggersville
DTSTART:20260114T000000Z
DTEND:20260114T023000Z
END:VEVENT
END:VCALENDAR
