BEGIN:VCALENDAR
VERSION:2.0
PRODID:SchoolNow
CALSCALE:GREGORIAN
BEGIN:VEVENT
UID:bec3122c-8095-11f0-8a4c-0a58a9feac02
DTSTAMP:20251216T200046Z
SUMMARY:FHS Basketball Vs Pine Grove
URL;VALUE=URI:https://www.northtippah.org/calendar/8537122/fhs-basketball-v
 s-pine-grove
DTSTART:20260117T000000Z
DTEND:20260117T023000Z
END:VEVENT
END:VCALENDAR
