BEGIN:VCALENDAR
VERSION:2.0
PRODID:SchoolNow
CALSCALE:GREGORIAN
BEGIN:VEVENT
UID:bec3157e-8095-11f0-b636-0a58a9feac02
DTSTAMP:20251216T200046Z
SUMMARY:FHS Basketball @ Strayhorn
URL;VALUE=URI:https://www.northtippah.org/calendar/8537126/fhs-basketball-s
 trayhorn
DTSTART:20260128T000000Z
DTEND:20260128T023000Z
END:VEVENT
END:VCALENDAR
