BEGIN:VCALENDAR
VERSION:2.0
PRODID:SchoolNow
CALSCALE:GREGORIAN
BEGIN:VEVENT
UID:bec31650-8095-11f0-beba-0a58a9feac02
DTSTAMP:20251216T200046Z
SUMMARY:FHS Basketball @ East Union
URL;VALUE=URI:https://www.northtippah.org/calendar/8537127/fhs-basketball-e
 ast-union
DTSTART:20260131T000000Z
DTEND:20260131T023000Z
END:VEVENT
END:VCALENDAR
