BEGIN:VCALENDAR
VERSION:2.0
PRODID:SchoolNow
CALSCALE:GREGORIAN
BEGIN:VEVENT
UID:bec31bc8-8095-11f0-9728-0a58a9feac02
DTSTAMP:20251216T200046Z
SUMMARY:FHS Golf @ Hillandale (Corinth)
URL;VALUE=URI:https://www.northtippah.org/calendar/8537132/fhs-golf-hilland
 ale-corinth
DTSTART:20250909T140000Z
DTEND:20250909T161500Z
END:VEVENT
END:VCALENDAR
