BEGIN:VCALENDAR
VERSION:2.0
PRODID:SchoolNow
CALSCALE:GREGORIAN
BEGIN:VEVENT
UID:bec31ca4-8095-11f0-a508-0a58a9feac02
DTSTAMP:20251216T200046Z
SUMMARY:FHS Golf @ Booneville CC
URL;VALUE=URI:https://www.northtippah.org/calendar/8537133/fhs-golf-boonevi
 lle-cc
DTSTART:20250916T140000Z
DTEND:20250916T160000Z
END:VEVENT
END:VCALENDAR
