BEGIN:VCALENDAR
VERSION:2.0
PRODID:SchoolNow
CALSCALE:GREGORIAN
BEGIN:VEVENT
UID:bec31d80-8095-11f0-9af1-0a58a9feac02
DTSTAMP:20251216T200046Z
SUMMARY:FHS Golf @ Booneville CC
URL;VALUE=URI:https://www.northtippah.org/calendar/8537134/fhs-golf-boonevi
 lle-cc
DTSTART:20250923T140000Z
DTEND:20250923T160000Z
END:VEVENT
END:VCALENDAR
