BEGIN:VCALENDAR
VERSION:2.0
PRODID:SchoolNow
CALSCALE:GREGORIAN
BEGIN:VEVENT
UID:bec31e5c-8095-11f0-9c27-0a58a9feac02
DTSTAMP:20251216T200046Z
SUMMARY:FHS Division Golf @ Booneville (Girls)
URL;VALUE=URI:https://www.northtippah.org/calendar/8537135/fhs-division-gol
 f-booneville-girls
DTSTART:20251002T133000Z
DTEND:20251002T160000Z
END:VEVENT
END:VCALENDAR
