BEGIN:VCALENDAR
VERSION:2.0
PRODID:SchoolNow
CALSCALE:GREGORIAN
BEGIN:VEVENT
UID:afca8e34-81c7-11f0-a26b-0a58a9feac02
DTSTAMP:20251216T200046Z
SUMMARY:WAC - Donuts with Dear Ones - KG only
URL;VALUE=URI:https://www.northtippah.org/calendar/8541062/wac-donuts-with-
 dear-ones-kg-only
DTSTART:20250905T130000Z
DTEND:20250905T140000Z
END:VEVENT
END:VCALENDAR
