BEGIN:VCALENDAR
VERSION:2.0
PRODID:SchoolNow
CALSCALE:GREGORIAN
BEGIN:VEVENT
UID:afca928a-81c7-11f0-8559-0a58a9feac02
DTSTAMP:20251216T200046Z
SUMMARY:WHS - Jr. Basketball @ West Union
URL;VALUE=URI:https://www.northtippah.org/calendar/8541063/whs-jr-basketbal
 l-west-union
DTSTART:20251009T223000Z
DTEND:20251009T233000Z
END:VEVENT
END:VCALENDAR
