BEGIN:VCALENDAR
VERSION:2.0
PRODID:SchoolNow
CALSCALE:GREGORIAN
BEGIN:VEVENT
UID:afca93c0-81c7-11f0-aa09-0a58a9feac02
DTSTAMP:20251216T200046Z
SUMMARY:WHS Jr. Football @ Middleton
URL;VALUE=URI:https://www.northtippah.org/calendar/8541064/whs-jr-football-
 middleton
DTSTART:20251009T230000Z
DTEND:20251010T000000Z
END:VEVENT
END:VCALENDAR
