BEGIN:VCALENDAR
VERSION:2.0
PRODID:SchoolNow
CALSCALE:GREGORIAN
BEGIN:VEVENT
UID:afca94ce-81c7-11f0-a7f4-0a58a9feac02
DTSTAMP:20251216T200046Z
SUMMARY:WHS Jr. Football @ Kossuth
URL;VALUE=URI:https://www.northtippah.org/calendar/8541065/whs-jr-football-
 kossuth
DTSTART:20251013T230000Z
DTEND:20251014T000000Z
END:VEVENT
END:VCALENDAR
