BEGIN:VCALENDAR
VERSION:2.0
PRODID:SchoolNow
CALSCALE:GREGORIAN
BEGIN:VEVENT
UID:afca95c8-81c7-11f0-8d51-0a58a9feac02
DTSTAMP:20251216T200046Z
SUMMARY:WHS - Jr. Basketball @ Ripley
URL;VALUE=URI:https://www.northtippah.org/calendar/8541066/whs-jr-basketbal
 l-ripley
DTSTART:20251014T223000Z
DTEND:20251014T233000Z
END:VEVENT
END:VCALENDAR
