BEGIN:VCALENDAR
VERSION:2.0
PRODID:SchoolNow
CALSCALE:GREGORIAN
BEGIN:VEVENT
UID:ad49fb8a-81fa-11f0-8478-0a58a9feac02
DTSTAMP:20251216T200046Z
SUMMARY:WHS - Jr. Basketball vs Kossuth
LOCATION:Chalybeate
URL;VALUE=URI:https://www.northtippah.org/calendar/8542468/whs-jr-basketbal
 l-vs-kossuth
DTSTART:20251016T223000Z
DTEND:20251016T233000Z
END:VEVENT
END:VCALENDAR
