BEGIN:VCALENDAR
VERSION:2.0
PRODID:SchoolNow
CALSCALE:GREGORIAN
BEGIN:VEVENT
UID:ad4a0058-81fa-11f0-bfc3-0a58a9feac02
DTSTAMP:20251216T200046Z
SUMMARY:WHS Jr Basketball @ Biggersville
URL;VALUE=URI:https://www.northtippah.org/calendar/8542469/whs-jr-basketbal
 l-biggersville
DTSTART;VALUE=DATE:20251018
DTEND;VALUE=DATE:20251019
END:VEVENT
END:VCALENDAR
