BEGIN:VCALENDAR
VERSION:2.0
PRODID:SchoolNow
CALSCALE:GREGORIAN
BEGIN:VEVENT
UID:ad4a01a2-81fa-11f0-b6f7-0a58a9feac02
DTSTAMP:20251216T200046Z
SUMMARY:WHS - Jr Basketball @ Pine Grove
URL;VALUE=URI:https://www.northtippah.org/calendar/8542470/whs-jr-basketbal
 l-pine-grove
DTSTART:20251020T223000Z
DTEND:20251020T233000Z
END:VEVENT
END:VCALENDAR
