BEGIN:VCALENDAR
VERSION:2.0
PRODID:SchoolNow
CALSCALE:GREGORIAN
BEGIN:VEVENT
UID:ad4a02ba-81fa-11f0-b381-0a58a9feac02
DTSTAMP:20251216T200046Z
SUMMARY:WHS Football vs Hatley
URL;VALUE=URI:https://www.northtippah.org/calendar/8542471/whs-football-vs-
 hatley
DTSTART:20251025T000000Z
DTEND:20251025T010000Z
END:VEVENT
END:VCALENDAR
