BEGIN:VCALENDAR
VERSION:2.0
PRODID:SchoolNow
CALSCALE:GREGORIAN
BEGIN:VEVENT
UID:ad4a03b4-81fa-11f0-a0b7-0a58a9feac02
DTSTAMP:20251216T200046Z
SUMMARY:WHS Jr Basketball @ Alcorn Central
URL;VALUE=URI:https://www.northtippah.org/calendar/8542472/whs-jr-basketbal
 l-alcorn-central
DTSTART:20251027T223000Z
DTEND:20251027T233000Z
END:VEVENT
END:VCALENDAR
