BEGIN:VCALENDAR
VERSION:2.0
PRODID:SchoolNow
CALSCALE:GREGORIAN
BEGIN:VEVENT
UID:ad4a04a4-81fa-11f0-9830-0a58a9feac02
DTSTAMP:20251216T200046Z
SUMMARY:WHS Jr Baseketball @ Burnsville
URL;VALUE=URI:https://www.northtippah.org/calendar/8542473/whs-jr-baseketba
 ll-burnsville
DTSTART:20251028T223000Z
DTEND:20251028T233000Z
END:VEVENT
END:VCALENDAR
