BEGIN:VCALENDAR
VERSION:2.0
PRODID:SchoolNow
CALSCALE:GREGORIAN
BEGIN:VEVENT
UID:ad4a058a-81fa-11f0-8ab3-0a58a9feac02
DTSTAMP:20251216T200046Z
SUMMARY:WHS Blood Drive
URL;VALUE=URI:https://www.northtippah.org/calendar/8542474/whs-blood-drive
DTSTART;VALUE=DATE:20251029
DTEND;VALUE=DATE:20251030
END:VEVENT
END:VCALENDAR
