BEGIN:VCALENDAR
VERSION:2.0
PRODID:SchoolNow
CALSCALE:GREGORIAN
BEGIN:VEVENT
UID:ad4a06b6-81fa-11f0-9403-0a58a9feac02
DTSTAMP:20251216T200046Z
SUMMARY:WHS Golf @ Hillandale
URL;VALUE=URI:https://www.northtippah.org/calendar/8542475/whs-golf-hilland
 ale
DTSTART:20250904T140000Z
DTEND:20250904T150000Z
END:VEVENT
END:VCALENDAR
